BEGIN:VCALENDAR
VERSION:2.0
PRODID:-//Van Andel Institute - ECPv6.15.20//NONSGML v1.0//EN
CALSCALE:GREGORIAN
METHOD:PUBLISH
X-WR-CALNAME:Van Andel Institute
X-ORIGINAL-URL:https://www.vai.org
X-WR-CALDESC:Events for Van Andel Institute
REFRESH-INTERVAL;VALUE=DURATION:PT1H
X-Robots-Tag:noindex
X-PUBLISHED-TTL:PT1H
BEGIN:VTIMEZONE
TZID:America/Detroit
BEGIN:DAYLIGHT
TZOFFSETFROM:-0500
TZOFFSETTO:-0400
TZNAME:EDT
DTSTART:20240310T070000
END:DAYLIGHT
BEGIN:STANDARD
TZOFFSETFROM:-0400
TZOFFSETTO:-0500
TZNAME:EST
DTSTART:20241103T060000
END:STANDARD
BEGIN:DAYLIGHT
TZOFFSETFROM:-0500
TZOFFSETTO:-0400
TZNAME:EDT
DTSTART:20250309T070000
END:DAYLIGHT
BEGIN:STANDARD
TZOFFSETFROM:-0400
TZOFFSETTO:-0500
TZNAME:EST
DTSTART:20251102T060000
END:STANDARD
BEGIN:DAYLIGHT
TZOFFSETFROM:-0500
TZOFFSETTO:-0400
TZNAME:EDT
DTSTART:20260308T070000
END:DAYLIGHT
BEGIN:STANDARD
TZOFFSETFROM:-0400
TZOFFSETTO:-0500
TZNAME:EST
DTSTART:20261101T060000
END:STANDARD
END:VTIMEZONE
BEGIN:VEVENT
DTSTART;TZID=America/Detroit:20251119T120000
DTEND;TZID=America/Detroit:20251119T130000
DTSTAMP:20260421T073914
CREATED:20250117T173531Z
LAST-MODIFIED:20251118T220421Z
UID:30133-1763553600-1763557200@www.vai.org
SUMMARY:Public Lecture Series: How Backyard Microbes Could Help Treat Disease
DESCRIPTION:Could the key to better treatments for chronic conditions such as diabetes and inflammatory bowel disease be found in our own backyards? In this enlightening presentation\, Van Andel Institute’s Dr. Nick Burton will share how studying microbes harvested from soil\, leaf litter and riverbanks may help us develop new therapies for a host of diseases.
URL:https://www.vai.org/event/public-lecture-series-how-backyard-microbes-could-help-treat-disease/
LOCATION:Virtual
CATEGORIES:Public Lecture Series
ATTACH;FMTTYPE=image/jpeg:https://www.vai.org/wp-content/uploads/2025/01/2025_PLS_4_Web_1600x600.jpg
END:VEVENT
END:VCALENDAR