BEGIN:VCALENDAR
VERSION:2.0
PRODID:-//Van Andel Institute - ECPv6.15.20//NONSGML v1.0//EN
CALSCALE:GREGORIAN
METHOD:PUBLISH
X-WR-CALNAME:Van Andel Institute
X-ORIGINAL-URL:https://www.vai.org
X-WR-CALDESC:Events for Van Andel Institute
REFRESH-INTERVAL;VALUE=DURATION:PT1H
X-Robots-Tag:noindex
X-PUBLISHED-TTL:PT1H
BEGIN:VTIMEZONE
TZID:America/Detroit
BEGIN:DAYLIGHT
TZOFFSETFROM:-0500
TZOFFSETTO:-0400
TZNAME:EDT
DTSTART:20240310T070000
END:DAYLIGHT
BEGIN:STANDARD
TZOFFSETFROM:-0400
TZOFFSETTO:-0500
TZNAME:EST
DTSTART:20241103T060000
END:STANDARD
BEGIN:DAYLIGHT
TZOFFSETFROM:-0500
TZOFFSETTO:-0400
TZNAME:EDT
DTSTART:20250309T070000
END:DAYLIGHT
BEGIN:STANDARD
TZOFFSETFROM:-0400
TZOFFSETTO:-0500
TZNAME:EST
DTSTART:20251102T060000
END:STANDARD
BEGIN:DAYLIGHT
TZOFFSETFROM:-0500
TZOFFSETTO:-0400
TZNAME:EDT
DTSTART:20260308T070000
END:DAYLIGHT
BEGIN:STANDARD
TZOFFSETFROM:-0400
TZOFFSETTO:-0500
TZNAME:EST
DTSTART:20261101T060000
END:STANDARD
END:VTIMEZONE
BEGIN:VEVENT
DTSTART;TZID=America/Detroit:20250514T120000
DTEND;TZID=America/Detroit:20250514T130000
DTSTAMP:20260421T045911
CREATED:20241230T231847Z
LAST-MODIFIED:20250519T155952Z
UID:30085-1747224000-1747227600@www.vai.org
SUMMARY:Public Lecture Series: Are Soundwaves the Next Big Cancer Breakthrough?
DESCRIPTION:Histotripsy is a promising new cancer treatment that uses soundwaves to disrupt tumors. Van Andel Institute and University of Michigan Health-West’s Dr. Clifford Cho will share the latest on this leading-edge therapy and highlight how the immune effects of histotripsy could improve overall cancer care. \nThis lecture will be offered both in-person at Van Andel Institute\, as well as virtually.
URL:https://www.vai.org/event/public-lecture-series-are-soundwaves-the-next-big-cancer-breakthrough/
LOCATION:Hybrid (VAI and Virtual)\, 333 Bostwick Ave. NE\, Grand Rapids\, Michigan\, 49503\, United States
CATEGORIES:Public Lecture Series
ATTACH;FMTTYPE=image/jpeg:https://www.vai.org/wp-content/uploads/2024/12/2025_PLS_2_Web_1600x600_122324.jpg
END:VEVENT
END:VCALENDAR