BEGIN:VCALENDAR
VERSION:2.0
PRODID:-//Van Andel Institute - ECPv6.15.20//NONSGML v1.0//EN
CALSCALE:GREGORIAN
METHOD:PUBLISH
X-WR-CALNAME:Van Andel Institute
X-ORIGINAL-URL:https://www.vai.org
X-WR-CALDESC:Events for Van Andel Institute
REFRESH-INTERVAL;VALUE=DURATION:PT1H
X-Robots-Tag:noindex
X-PUBLISHED-TTL:PT1H
BEGIN:VTIMEZONE
TZID:America/Detroit
BEGIN:DAYLIGHT
TZOFFSETFROM:-0500
TZOFFSETTO:-0400
TZNAME:EDT
DTSTART:20250309T070000
END:DAYLIGHT
BEGIN:STANDARD
TZOFFSETFROM:-0400
TZOFFSETTO:-0500
TZNAME:EST
DTSTART:20251102T060000
END:STANDARD
BEGIN:DAYLIGHT
TZOFFSETFROM:-0500
TZOFFSETTO:-0400
TZNAME:EDT
DTSTART:20260308T070000
END:DAYLIGHT
BEGIN:STANDARD
TZOFFSETFROM:-0400
TZOFFSETTO:-0500
TZNAME:EST
DTSTART:20261101T060000
END:STANDARD
BEGIN:DAYLIGHT
TZOFFSETFROM:-0500
TZOFFSETTO:-0400
TZNAME:EDT
DTSTART:20270314T070000
END:DAYLIGHT
BEGIN:STANDARD
TZOFFSETFROM:-0400
TZOFFSETTO:-0500
TZNAME:EST
DTSTART:20271107T060000
END:STANDARD
END:VTIMEZONE
BEGIN:VEVENT
DTSTART;TZID=America/Detroit:20260605T180000
DTEND;TZID=America/Detroit:20260605T220000
DTSTAMP:20260421T072055
CREATED:20251208T190721Z
LAST-MODIFIED:20260420T174421Z
UID:33754-1780682400-1780696800@www.vai.org
SUMMARY:2026 Around the World — A Taste of Italy
DESCRIPTION:Join us to celebrate summer and experience the wonders of la dolce vita at Around the World — A Taste of Italy on June 5\, 2026\, at Van Andel Institute. \nAround the World will feature Italian-inspired food and wine\, bringing the refined flavors of the region to Grand Rapids’ summer celebration. The evening will also feature live entertainment and joyful company\, all in support of Van Andel Institute for Education. \nSuggested attire is summer casual. Complimentary valet parking is available at the main entrance of VAI.
URL:https://www.vai.org/event/2026-around-the-world-a-taste-of-italy/
LOCATION:Van Andel Institute\, 333 Bostwick Ave. NE\, Grand Rapids\, MI\, 49503\, United States
CATEGORIES:Philanthropic Events,Signature Events
ATTACH;FMTTYPE=image/jpeg:https://www.vai.org/wp-content/uploads/2025/12/VAI_AroundTheWorld-26-WebGraphics_1110x416_04.jpg
END:VEVENT
END:VCALENDAR