BEGIN:VCALENDAR
VERSION:2.0
PRODID:-//Van Andel Institute - ECPv6.15.20//NONSGML v1.0//EN
CALSCALE:GREGORIAN
METHOD:PUBLISH
X-WR-CALNAME:Van Andel Institute
X-ORIGINAL-URL:https://www.vai.org
X-WR-CALDESC:Events for Van Andel Institute
REFRESH-INTERVAL;VALUE=DURATION:PT1H
X-Robots-Tag:noindex
X-PUBLISHED-TTL:PT1H
BEGIN:VTIMEZONE
TZID:America/Detroit
BEGIN:DAYLIGHT
TZOFFSETFROM:-0500
TZOFFSETTO:-0400
TZNAME:EDT
DTSTART:20240310T070000
END:DAYLIGHT
BEGIN:STANDARD
TZOFFSETFROM:-0400
TZOFFSETTO:-0500
TZNAME:EST
DTSTART:20241103T060000
END:STANDARD
BEGIN:DAYLIGHT
TZOFFSETFROM:-0500
TZOFFSETTO:-0400
TZNAME:EDT
DTSTART:20250309T070000
END:DAYLIGHT
BEGIN:STANDARD
TZOFFSETFROM:-0400
TZOFFSETTO:-0500
TZNAME:EST
DTSTART:20251102T060000
END:STANDARD
BEGIN:DAYLIGHT
TZOFFSETFROM:-0500
TZOFFSETTO:-0400
TZNAME:EDT
DTSTART:20260308T070000
END:DAYLIGHT
BEGIN:STANDARD
TZOFFSETFROM:-0400
TZOFFSETTO:-0500
TZNAME:EST
DTSTART:20261101T060000
END:STANDARD
END:VTIMEZONE
BEGIN:VEVENT
DTSTART;TZID=America/Detroit:20250621T083000
DTEND;TZID=America/Detroit:20250621T170000
DTSTAMP:20260421T045631
CREATED:20250312T134036Z
LAST-MODIFIED:20250623T171937Z
UID:30603-1750494600-1750525200@www.vai.org
SUMMARY:13th Annual Bee Brave Golf Scramble
DESCRIPTION:Join Van Andel Institute and Bee Brave for the 13th annual Bee Brave Golf Scramble supporting breast cancer research at VAI. Shotgun start at 8:30 a.m.\, with raffle tickets\, special event holes\, 50/50\, and more. Food and beverages provided. \nAdmission\n\nFoursome Admission | $600\n\nIncludes four golf registrations\, eight drink tickets\, a hot buffet provided after golf and a boxed lunch in the morning.\n\n\nIndividual Admission | $150\n\nIncludes one golf registration\, two drink tickets\, a hot buffet provided after golf and a boxed lunch in the morning.
URL:https://www.vai.org/event/13th-annual-bee-brave-golf-scramble/
LOCATION:Thornapple Pointe Golf Club\, 7211 48th St SE\, Grand Rapids\, Michigan\, 49512\, United States
CATEGORIES:Purple Community
ATTACH;FMTTYPE=image/jpeg:https://www.vai.org/wp-content/uploads/2025/03/BeeBrave25_golf_1600x600_Website-Banner-FINAL.jpg
END:VEVENT
END:VCALENDAR